BEGIN:VCALENDAR
VERSION:2.0
PRODID:-//Squarespace Inc/Squarespace 6//v6//EN
BEGIN:VEVENT
UID:589a2fe46a496339d25f2154@squarespace.com
DTSTAMP:20170207T203714Z
DTSTART:20170207T210000Z
DTEND:20170207T220000Z
SUMMARY:test 
END:VEVENT
END:VCALENDAR
